BEGIN:VCALENDAR
VERSION:2.0
PRODID:-//Le Storie Wines - ECPv6.15.20//NONSGML v1.0//EN
CALSCALE:GREGORIAN
METHOD:PUBLISH
X-WR-CALNAME:Le Storie Wines
X-ORIGINAL-URL:https://lestoriewines.com
X-WR-CALDESC:Events for Le Storie Wines
REFRESH-INTERVAL;VALUE=DURATION:PT1H
X-Robots-Tag:noindex
X-PUBLISHED-TTL:PT1H
BEGIN:VTIMEZONE
TZID:America/New_York
BEGIN:DAYLIGHT
TZOFFSETFROM:-0500
TZOFFSETTO:-0400
TZNAME:EDT
DTSTART:20190310T070000
END:DAYLIGHT
BEGIN:STANDARD
TZOFFSETFROM:-0400
TZOFFSETTO:-0500
TZNAME:EST
DTSTART:20191103T060000
END:STANDARD
BEGIN:DAYLIGHT
TZOFFSETFROM:-0500
TZOFFSETTO:-0400
TZNAME:EDT
DTSTART:20200308T070000
END:DAYLIGHT
BEGIN:STANDARD
TZOFFSETFROM:-0400
TZOFFSETTO:-0500
TZNAME:EST
DTSTART:20201101T060000
END:STANDARD
BEGIN:DAYLIGHT
TZOFFSETFROM:-0500
TZOFFSETTO:-0400
TZNAME:EDT
DTSTART:20210314T070000
END:DAYLIGHT
BEGIN:STANDARD
TZOFFSETFROM:-0400
TZOFFSETTO:-0500
TZNAME:EST
DTSTART:20211107T060000
END:STANDARD
END:VTIMEZONE
BEGIN:VEVENT
DTSTART;TZID=America/New_York:20200430T160000
DTEND;TZID=America/New_York:20200430T170000
DTSTAMP:20260424T182324
CREATED:20200414T212916Z
LAST-MODIFIED:20200423T193813Z
UID:3514-1588262400-1588266000@lestoriewines.com
SUMMARY:Capolino Perlingieri Live Zoom Tasting Hosted by Tavola in C'ville\, Dept. of Beer & Wine in NOVA\, Ellwood Thompson's in RVA\, & Ace Beverage in DC!
DESCRIPTION:We are over-the-moon to announce our first ever multi-area Zoom event featuring the naturally exquisite wines of Capolino Perlingieri from Campania Italy!! \nHosted by Tavola in Charlottesville\, Virginia and by our partners\, Department of Beer and Wine in Alexandria\, Virginia\, Ellwood Thompson’s in Richmond\, Virginia\, and Ace Beverage in DC: Alexia Perlingieri will tell you the story of her winery firsthand via Zoom all the way from Italy!  So sit back\, sip on a glass of organically farmed Campania vino\, and have your questions ready to ask Alexia. We can’t wait to see you there! \nThere is no cost to attend. BE SURE to order her wines in advance so you’re in-the-game during this event! Contact your local retailer for details. \nCharlottesville Winos Order Through Tavola:\n \nTo order your wines\, email info@tavolavino.com with your selections below: \n\n\n\n\n\n\n\n\n\n\n\nCapolino Perlingieri Fiano ‘Nembo’: $19\nCapolino Perlingieri Falanghina ‘Preta’: $18\nCapolino Perlingieri Aglianico ‘Brizio‘: $16\nCapolino Perlingieri Sciascinoso and Aglianico ‘Sciasci’: $20\n\n\n\n\n\n\n\n\n\n\n\n  \nNorthern Virginia Winos Order Through Department of Beer and Wine:\n \nOpen daily 11am-6pm \nOrders for delivery must be placed 72 hours in advance of the event in order to guarantee your order is ready by the time of the event. Call 703.682.2863 or email info@deptofbeerandwine.com for details or fill out the online form for delivery with the tasting wines listed above (pricing will be unique per retailer so be sure to ask our friends at DBW). \n  \nRichmond Winos Order Through Ellwood Thompson’s Local Market:\n \nTo order your wines\, email bcerritos@ellwoodthompsons.com with your selections listed above. Selections and pricing are identical to the list above. \n  \n  \nDC Winos Order Through Ace Beverage:\n \nSelections\, pricing\, and details are listed on the website. Have questions about your order? Call 202.966.4444 or email ace@acebevdc.com. \n  \n  \nSee you on Thursday\, April 30 @ 4pm in Zoom Room Below:\n\nCapolino Perlingieri Zoom Tasting: https://zoom.us/j/97277366708\nMeeting ID: 972 7736 6708\nOne tap mobile +19292056099\,\,97277366708# US (New York)\n\n  \nFeeling like a Zoom novice? Learn how to join a Zoom meeting \nInformation on all of Alexia’s wines imported by Le Storie \n\n    \n        \n            \n                \n                \n                \n                \n                \n                \n            \n        \n        \n    \n\n 
URL:https://lestoriewines.com/event/capolino-perlingieri-live-virtual-tasting-via-zoom-hosted-by-tavola/
LOCATION:Tavola\, 826 Hinton Avenue\, Charlottesville\, VA\, 22902\, United States
CATEGORIES:Virtual Events
ATTACH;FMTTYPE=image/png:https://lestoriewines.com/wp-content/uploads/2020/04/Tavola-Event-9.png
ORGANIZER;CN="Kelly Abbott":MAILTO:kelly@lestoriewines.com
END:VEVENT
BEGIN:VEVENT
DTSTART;TZID=America/New_York:20200410T160000
DTEND;TZID=America/New_York:20200410T170000
DTSTAMP:20260424T182324
CREATED:20200401T180235Z
LAST-MODIFIED:20200402T205133Z
UID:3271-1586534400-1586538000@lestoriewines.com
SUMMARY:Sandro de Bruno Live Virtual Tasting with Crystal City Wine Shop via Zoom
DESCRIPTION:Join our host\, Crystal City Wine Shop\, live via Zoom as Sandro Tasoniero\, winemaker & owner of Sandro de Bruno\, presents his Soave and Sparkling Durello from Verona\, Italy. Sandro de Bruno farms 23ha. of indigenous varietals organically on Monte Calvarina at 600 meters above sea level. Taste the wine\, learn about what is in your glass\, and ask questions LIVE. We can’t wait to see you there! \nPurchase tasting wines through Crystal City Wine Shop\nLearn more about Sandro de Bruno winery\nInformational sheets on Sandro de Bruno wines imported by Le Storie Wines\nLearn how to join a Zoom meeting\nJoin Zoom Meeting\nhttps://zoom.us/j/360706981 \nMeeting ID: 360 706 981 \nOne tap mobile\n+19292056099\,\,360706981# US (New York)
URL:https://lestoriewines.com/event/sandro-de-bruno-live-virtual-tasting-with-crystal-city-wine-shop/
LOCATION:Crystal City Wine Shop\, 220 20th Street S\, Arlington\, VA\, 22202\, United States
CATEGORIES:Virtual Events
ATTACH;FMTTYPE=image/png:https://lestoriewines.com/wp-content/uploads/2020/04/Crystal-City-Sandro-de-Bruno-1.png
ORGANIZER;CN="Kat McCormack":MAILTO:kat@lestoriewines.com
END:VEVENT
BEGIN:VEVENT
DTSTART;TZID=America/New_York:20200408T161000
DTEND;TZID=America/New_York:20200408T170000
DTSTAMP:20260424T182324
CREATED:20200401T164219Z
LAST-MODIFIED:20200402T204951Z
UID:3146-1586362200-1586365200@lestoriewines.com
SUMMARY:Sandro de Bruno Tasting with Wardman Wines Live on instgram
DESCRIPTION:Join Wardman Wines live on instagram as Sandro Tasoniero\, winemaker & owner of Sandro de Bruno\, presents his Sparkling Durello from the Veneto region of Italy. They farm 23ha. of indigenous varietals organically on Monte Calvarina at 600 meters above sea level. Taste the wine\, learn about what is in your glass\, and ask questions LIVE. We can’t wait to see you there! \nPurchase the tasting wine through Wardman Wines\nHow to join the live event on instagram\nLearn more about Sandro de Bruno winery\nInformational sheets on Sandro de Bruno wines imported by Le Storie Wines
URL:https://lestoriewines.com/event/sandro-de-bruno-live-tasting-with-wardman-wines/
LOCATION:Wardman Wines\, 625 Monroe St NE A7\, Washington\, DC\, 20017\, United States
CATEGORIES:Virtual Events
ATTACH;FMTTYPE=image/png:https://lestoriewines.com/wp-content/uploads/2020/04/Wardman-and-Sandro-de-Bruno-1-e1585760652979.png
ORGANIZER;CN="Kat McCormack":MAILTO:kat@lestoriewines.com
END:VEVENT
BEGIN:VEVENT
DTSTART;TZID=America/New_York:20200329T170000
DTEND;TZID=America/New_York:20200329T180000
DTSTAMP:20260424T182324
CREATED:20200326T211829Z
LAST-MODIFIED:20200329T174944Z
UID:3135-1585501200-1585504800@lestoriewines.com
SUMMARY:Le Storie Virtual Tasting Test Meeting
DESCRIPTION:Join the team of Le Storie as we do a practice virtual tasting using Zoom. \nJoin our Zoom Meeting\nhttps://zoom.us/j/447895049?pwd=RlQ4Qlg3SXZmdytXczBBUWtVYjZQUT09 \nMeeting ID: 447 895 049\nPassword: 661455 \nInstructions: If you do not already have Zoom software\, a download is required in order to participate in the video function. Allow yourself up to 10 minutes for download and simple setup. You may also join by phone\, only\, using the listed phone numbers below. \nTo get started\, select the link above\, follow the prompts including: \n\nChoose a screen name visible to all participants\nEnter the meeting ID and password above\nChoose to show the video of you\nChoose to enter the meeting on muted or unmuted\n\nOnce the meeting begins you will be automatically muted until the Q& A session\n\n\n\nFirst time using the software? Check out video tutorials here. \nOne tap mobile\n+13017158592\,\,447895049# US\n+13126266799\,\,447895049# US (Chicago) \nDial by your location\n+1 301 715 8592 US\n+1 312 626 6799 US (Chicago)\n+1 346 248 7799 US (Houston)\n+1 669 900 6833 US (San Jose)\n+1 929 205 6099 US (New York)\n+1 253 215 8782 US \nMeeting ID: 447 895 049\nFind your local number: https://zoom.us/u/acj6Y8MNL9 \n 
URL:https://lestoriewines.com/event/le-storie-hangouts-test-meeting/
LOCATION:Le Storie\, 2402 Charles City Rd\, Richmond\, VA\, 23231\, United States
CATEGORIES:Virtual Events
ORGANIZER;CN="John Grimsley":MAILTO:john@lestoriewines.com
END:VEVENT
END:VCALENDAR